<?xml version="1.0" encoding="UTF-8"?>
<Capabilities xmlns="http://www.opengis.net/wmts/1.0" xmlns:ows="http://www.opengis.net/ows/1.1" xmlns:xlink="http://www.w3.org/1999/xlink" xmlns:xsi="http://www.w3.org/2001/XMLSchema-instance" xmlns:gml="http://www.opengis.net/gml" xsi:schemaLocation="http://www.opengis.net/wmts/1.0 http://schemas.opengis.net/wmts/1.0/wmtsGetCapabilities_response.xsd" version="1.0.0">
  <ows:ServiceIdentification>
    <ows:Title>Pan-Arctic Biomass Mapping</ows:Title>
    <ows:ServiceType>OGC WMTS</ows:ServiceType>
    <ows:ServiceTypeVersion>1.0.0</ows:ServiceTypeVersion>
  </ows:ServiceIdentification>
  <ows:OperationsMetadata>
    <ows:Operation name="GetCapabilities">
      <ows:DCP>
        <ows:HTTP>
          <ows:Get xlink:href="https://arcticdata.io/data/10.18739/A2GF0MZ6W/WMTSCapabilities.xml">
            <ows:Constraint name="GetEncoding">
              <ows:AllowedValues>
                <ows:Value>RESTful</ows:Value>
              </ows:AllowedValues>
            </ows:Constraint>
          </ows:Get>
        </ows:HTTP>
      </ows:DCP>
    </ows:Operation>
    <ows:Operation name="GetTile">
      <ows:DCP>
        <ows:HTTP>
          <ows:Get xlink:href="https://arcticdata.io/data/10.18739/A2GF0MZ6W/">
            <ows:Constraint name="GetEncoding">
              <ows:AllowedValues>
                <ows:Value>RESTful</ows:Value>
              </ows:AllowedValues>
            </ows:Constraint>
          </ows:Get>
        </ows:HTTP>
      </ows:DCP>
    </ows:Operation>
  </ows:OperationsMetadata>
  <Contents>
    <Layer>
      <ows:Title>AGB 2000 Plant p025</ows:Title>
      <ows:Identifier>AGB_2000_Plant_p025</ows:Identifier>
      <ows:BoundingBox crs="http://www.opengis.net/def/crs/EPSG/0/3571">
        <ows:LowerCorner>-4889340.0 -4889340.0</ows:LowerCorner>
        <ows:UpperCorner>4889340.0 4889340.0</ows:UpperCorner>
      </ows:BoundingBox>
      <Style isDefault="true">
        <ows:Title>Default Style</ows:Title>
        <ows:Identifier>default</ows:Identifier>
      </Style>
      <Format>image/geotiff</Format>
      <TileMatrixSetLink>
        <TileMatrixSet>Custom3571TMS</TileMatrixSet>
      </TileMatrixSetLink>
      <ResourceURL format="image/geotiff" resourceType="tile" template="https://arcticdata.io/data/10.18739/A2GF0MZ6W/agb/2000/plant/p025/{TileMatrix}/{TileCol}/plant_agb_2000_p025_{TileCol}_{TileRow}.tif"/>
    </Layer>
    <Layer>
      <ows:Title>AGB 2000 Plant p500</ows:Title>
      <ows:Identifier>AGB_2000_Plant_p500</ows:Identifier>
      <ows:BoundingBox crs="http://www.opengis.net/def/crs/EPSG/0/3571">
        <ows:LowerCorner>-4889340.0 -4889340.0</ows:LowerCorner>
        <ows:UpperCorner>4889340.0 4889340.0</ows:UpperCorner>
      </ows:BoundingBox>
      <Style isDefault="true">
        <ows:Title>Default Style</ows:Title>
        <ows:Identifier>default</ows:Identifier>
      </Style>
      <Format>image/geotiff</Format>
      <TileMatrixSetLink>
        <TileMatrixSet>Custom3571TMS</TileMatrixSet>
      </TileMatrixSetLink>
      <ResourceURL format="image/geotiff" resourceType="tile" template="https://arcticdata.io/data/10.18739/A2GF0MZ6W/agb/2000/plant/p500/{TileMatrix}/{TileCol}/plant_agb_2000_p500_{TileCol}_{TileRow}.tif"/>
    </Layer>
    <Layer>
      <ows:Title>AGB 2000 Plant p975</ows:Title>
      <ows:Identifier>AGB_2000_Plant_p975</ows:Identifier>
      <ows:BoundingBox crs="http://www.opengis.net/def/crs/EPSG/0/3571">
        <ows:LowerCorner>-4889340.0 -4889340.0</ows:LowerCorner>
        <ows:UpperCorner>4889340.0 4889340.0</ows:UpperCorner>
      </ows:BoundingBox>
      <Style isDefault="true">
        <ows:Title>Default Style</ows:Title>
        <ows:Identifier>default</ows:Identifier>
      </Style>
      <Format>image/geotiff</Format>
      <TileMatrixSetLink>
        <TileMatrixSet>Custom3571TMS</TileMatrixSet>
      </TileMatrixSetLink>
      <ResourceURL format="image/geotiff" resourceType="tile" template="https://arcticdata.io/data/10.18739/A2GF0MZ6W/agb/2000/plant/p975/{TileMatrix}/{TileCol}/plant_agb_2000_p975_{TileCol}_{TileRow}.tif"/>
    </Layer>
    <Layer>
      <ows:Title>AGB 2000 Woodyplant p025</ows:Title>
      <ows:Identifier>AGB_2000_Woodyplant_p025</ows:Identifier>
      <ows:BoundingBox crs="http://www.opengis.net/def/crs/EPSG/0/3571">
        <ows:LowerCorner>-4889340.0 -4889340.0</ows:LowerCorner>
        <ows:UpperCorner>4889340.0 4889340.0</ows:UpperCorner>
      </ows:BoundingBox>
      <Style isDefault="true">
        <ows:Title>Default Style</ows:Title>
        <ows:Identifier>default</ows:Identifier>
      </Style>
      <Format>image/geotiff</Format>
      <TileMatrixSetLink>
        <TileMatrixSet>Custom3571TMS</TileMatrixSet>
      </TileMatrixSetLink>
      <ResourceURL format="image/geotiff" resourceType="tile" template="https://arcticdata.io/data/10.18739/A2GF0MZ6W/agb/2000/woodyplant/p025/{TileMatrix}/{TileCol}/woodyplant_agb_2000_p025_{TileCol}_{TileRow}.tif"/>
    </Layer>
    <Layer>
      <ows:Title>AGB 2000 Woodyplant p500</ows:Title>
      <ows:Identifier>AGB_2000_Woodyplant_p500</ows:Identifier>
      <ows:BoundingBox crs="http://www.opengis.net/def/crs/EPSG/0/3571">
        <ows:LowerCorner>-4889340.0 -4889340.0</ows:LowerCorner>
        <ows:UpperCorner>4889340.0 4889340.0</ows:UpperCorner>
      </ows:BoundingBox>
      <Style isDefault="true">
        <ows:Title>Default Style</ows:Title>
        <ows:Identifier>default</ows:Identifier>
      </Style>
      <Format>image/geotiff</Format>
      <TileMatrixSetLink>
        <TileMatrixSet>Custom3571TMS</TileMatrixSet>
      </TileMatrixSetLink>
      <ResourceURL format="image/geotiff" resourceType="tile" template="https://arcticdata.io/data/10.18739/A2GF0MZ6W/agb/2000/woodyplant/p500/{TileMatrix}/{TileCol}/woodyplant_agb_2000_p500_{TileCol}_{TileRow}.tif"/>
    </Layer>
    <Layer>
      <ows:Title>AGB 2000 Woodyplant p975</ows:Title>
      <ows:Identifier>AGB_2000_Woodyplant_p975</ows:Identifier>
      <ows:BoundingBox crs="http://www.opengis.net/def/crs/EPSG/0/3571">
        <ows:LowerCorner>-4889340.0 -4889340.0</ows:LowerCorner>
        <ows:UpperCorner>4889340.0 4889340.0</ows:UpperCorner>
      </ows:BoundingBox>
      <Style isDefault="true">
        <ows:Title>Default Style</ows:Title>
        <ows:Identifier>default</ows:Identifier>
      </Style>
      <Format>image/geotiff</Format>
      <TileMatrixSetLink>
        <TileMatrixSet>Custom3571TMS</TileMatrixSet>
      </TileMatrixSetLink>
      <ResourceURL format="image/geotiff" resourceType="tile" template="https://arcticdata.io/data/10.18739/A2GF0MZ6W/agb/2000/woodyplant/p975/{TileMatrix}/{TileCol}/woodyplant_agb_2000_p975_{TileCol}_{TileRow}.tif"/>
    </Layer>
    <Layer>
      <ows:Title>AGB 2000 Woodyplant Dominance </ows:Title>
      <ows:Identifier>AGB_2000_Woodyplant_Dominance</ows:Identifier>
      <ows:BoundingBox crs="http://www.opengis.net/def/crs/EPSG/0/3571">
        <ows:LowerCorner>-4889340.0 -4889340.0</ows:LowerCorner>
        <ows:UpperCorner>4889340.0 4889340.0</ows:UpperCorner>
      </ows:BoundingBox>
      <Style isDefault="true">
        <ows:Title>Default Style</ows:Title>
        <ows:Identifier>default</ows:Identifier>
      </Style>
      <Format>image/geotiff</Format>
      <TileMatrixSetLink>
        <TileMatrixSet>Custom3571TMS</TileMatrixSet>
      </TileMatrixSetLink>
      <ResourceURL format="image/geotiff" resourceType="tile" template="https://arcticdata.io/data/10.18739/A2GF0MZ6W/agb/2000/woodyplant_dominance/{TileMatrix}/{TileCol}/woodyplant_dominance_2000_{TileCol}_{TileRow}.tif"/>
    </Layer>
    <Layer>
      <ows:Title>AGB 2020 Plant p025</ows:Title>
      <ows:Identifier>AGB_2020_Plant_p025</ows:Identifier>
      <ows:BoundingBox crs="http://www.opengis.net/def/crs/EPSG/0/3571">
        <ows:LowerCorner>-4889340.0 -4889340.0</ows:LowerCorner>
        <ows:UpperCorner>4889340.0 4889340.0</ows:UpperCorner>
      </ows:BoundingBox>
      <Style isDefault="true">
        <ows:Title>Default Style</ows:Title>
        <ows:Identifier>default</ows:Identifier>
      </Style>
      <Format>image/geotiff</Format>
      <TileMatrixSetLink>
        <TileMatrixSet>Custom3571TMS</TileMatrixSet>
      </TileMatrixSetLink>
      <ResourceURL format="image/geotiff" resourceType="tile" template="https://arcticdata.io/data/10.18739/A2GF0MZ6W/agb/2020/plant/p025/{TileMatrix}/{TileCol}/plant_agb_2020_p025_{TileCol}_{TileRow}.tif"/>
    </Layer>
    <Layer>
      <ows:Title>AGB 2020 Plant p500</ows:Title>
      <ows:Identifier>AGB_2020_Plant_p500</ows:Identifier>
      <ows:BoundingBox crs="http://www.opengis.net/def/crs/EPSG/0/3571">
        <ows:LowerCorner>-4889340.0 -4889340.0</ows:LowerCorner>
        <ows:UpperCorner>4889340.0 4889340.0</ows:UpperCorner>
      </ows:BoundingBox>
      <Style isDefault="true">
        <ows:Title>Default Style</ows:Title>
        <ows:Identifier>default</ows:Identifier>
      </Style>
      <Format>image/geotiff</Format>
      <TileMatrixSetLink>
        <TileMatrixSet>Custom3571TMS</TileMatrixSet>
      </TileMatrixSetLink>
      <ResourceURL format="image/geotiff" resourceType="tile" template="https://arcticdata.io/data/10.18739/A2GF0MZ6W/agb/2020/plant/p500/{TileMatrix}/{TileCol}/plant_agb_2020_p500_{TileCol}_{TileRow}.tif"/>
    </Layer>
    <Layer>
      <ows:Title>AGB 2020 Plant p975</ows:Title>
      <ows:Identifier>AGB_2020_Plant_p975</ows:Identifier>
      <ows:BoundingBox crs="http://www.opengis.net/def/crs/EPSG/0/3571">
        <ows:LowerCorner>-4889340.0 -4889340.0</ows:LowerCorner>
        <ows:UpperCorner>4889340.0 4889340.0</ows:UpperCorner>
      </ows:BoundingBox>
      <Style isDefault="true">
        <ows:Title>Default Style</ows:Title>
        <ows:Identifier>default</ows:Identifier>
      </Style>
      <Format>image/geotiff</Format>
      <TileMatrixSetLink>
        <TileMatrixSet>Custom3571TMS</TileMatrixSet>
      </TileMatrixSetLink>
      <ResourceURL format="image/geotiff" resourceType="tile" template="https://arcticdata.io/data/10.18739/A2GF0MZ6W/agb/2020/plant/p975/{TileMatrix}/{TileCol}/plant_agb_2020_p975_{TileCol}_{TileRow}.tif"/>
    </Layer>
    <Layer>
      <ows:Title>AGB 2020 Woodyplant p025</ows:Title>
      <ows:Identifier>AGB_2020_Woodyplant_p025</ows:Identifier>
      <ows:BoundingBox crs="http://www.opengis.net/def/crs/EPSG/0/3571">
        <ows:LowerCorner>-4889340.0 -4889340.0</ows:LowerCorner>
        <ows:UpperCorner>4889340.0 4889340.0</ows:UpperCorner>
      </ows:BoundingBox>
      <Style isDefault="true">
        <ows:Title>Default Style</ows:Title>
        <ows:Identifier>default</ows:Identifier>
      </Style>
      <Format>image/geotiff</Format>
      <TileMatrixSetLink>
        <TileMatrixSet>Custom3571TMS</TileMatrixSet>
      </TileMatrixSetLink>
      <ResourceURL format="image/geotiff" resourceType="tile" template="https://arcticdata.io/data/10.18739/A2GF0MZ6W/agb/2020/woodyplant/p025/{TileMatrix}/{TileCol}/woodyplant_agb_2020_p025_{TileCol}_{TileRow}.tif"/>
    </Layer>
    <Layer>
      <ows:Title>AGB 2020 Woodyplant p500</ows:Title>
      <ows:Identifier>AGB_2020_Woodyplant_p500</ows:Identifier>
      <ows:BoundingBox crs="http://www.opengis.net/def/crs/EPSG/0/3571">
        <ows:LowerCorner>-4889340.0 -4889340.0</ows:LowerCorner>
        <ows:UpperCorner>4889340.0 4889340.0</ows:UpperCorner>
      </ows:BoundingBox>
      <Style isDefault="true">
        <ows:Title>Default Style</ows:Title>
        <ows:Identifier>default</ows:Identifier>
      </Style>
      <Format>image/geotiff</Format>
      <TileMatrixSetLink>
        <TileMatrixSet>Custom3571TMS</TileMatrixSet>
      </TileMatrixSetLink>
      <ResourceURL format="image/geotiff" resourceType="tile" template="https://arcticdata.io/data/10.18739/A2GF0MZ6W/agb/2020/woodyplant/p500/{TileMatrix}/{TileCol}/woodyplant_agb_2020_p500_{TileCol}_{TileRow}.tif"/>
    </Layer>
    <Layer>
      <ows:Title>AGB 2020 Woodyplant p975</ows:Title>
      <ows:Identifier>AGB_2020_Woodyplant_p975</ows:Identifier>
      <ows:BoundingBox crs="http://www.opengis.net/def/crs/EPSG/0/3571">
        <ows:LowerCorner>-4889340.0 -4889340.0</ows:LowerCorner>
        <ows:UpperCorner>4889340.0 4889340.0</ows:UpperCorner>
      </ows:BoundingBox>
      <Style isDefault="true">
        <ows:Title>Default Style</ows:Title>
        <ows:Identifier>default</ows:Identifier>
      </Style>
      <Format>image/geotiff</Format>
      <TileMatrixSetLink>
        <TileMatrixSet>Custom3571TMS</TileMatrixSet>
      </TileMatrixSetLink>
      <ResourceURL format="image/geotiff" resourceType="tile" template="https://arcticdata.io/data/10.18739/A2GF0MZ6W/agb/2020/woodyplant/p975/{TileMatrix}/{TileCol}/woodyplant_agb_2020_p975_{TileCol}_{TileRow}.tif"/>
    </Layer>
    <Layer>
      <ows:Title>AGB 2020 Woodyplant Dominance </ows:Title>
      <ows:Identifier>AGB_2020_Woodyplant_Dominance</ows:Identifier>
      <ows:BoundingBox crs="http://www.opengis.net/def/crs/EPSG/0/3571">
        <ows:LowerCorner>-4889340.0 -4889340.0</ows:LowerCorner>
        <ows:UpperCorner>4889340.0 4889340.0</ows:UpperCorner>
      </ows:BoundingBox>
      <Style isDefault="true">
        <ows:Title>Default Style</ows:Title>
        <ows:Identifier>default</ows:Identifier>
      </Style>
      <Format>image/geotiff</Format>
      <TileMatrixSetLink>
        <TileMatrixSet>Custom3571TMS</TileMatrixSet>
      </TileMatrixSetLink>
      <ResourceURL format="image/geotiff" resourceType="tile" template="https://arcticdata.io/data/10.18739/A2GF0MZ6W/agb/2020/woodyplant_dominance/{TileMatrix}/{TileCol}/woodyplant_dominance_2020_{TileCol}_{TileRow}.tif"/>
    </Layer>
    <Layer>
      <ows:Title>AGB Change Plant p050</ows:Title>
      <ows:Identifier>AGB_Change_Plant_p050</ows:Identifier>
      <ows:BoundingBox crs="http://www.opengis.net/def/crs/EPSG/0/3571">
        <ows:LowerCorner>-4889340.0 -4889340.0</ows:LowerCorner>
        <ows:UpperCorner>4889340.0 4889340.0</ows:UpperCorner>
      </ows:BoundingBox>
      <Style isDefault="true">
        <ows:Title>Default Style</ows:Title>
        <ows:Identifier>default</ows:Identifier>
      </Style>
      <Format>image/geotiff</Format>
      <TileMatrixSetLink>
        <TileMatrixSet>Custom3571TMS</TileMatrixSet>
      </TileMatrixSetLink>
      <ResourceURL format="image/geotiff" resourceType="tile" template="https://arcticdata.io/data/10.18739/A2GF0MZ6W/agb_change/plant/p050/{TileMatrix}/{TileCol}/plant_agb_change_p050_{TileCol}_{TileRow}.tif"/>
    </Layer>
    <Layer>
      <ows:Title>AGB Change Plant p500</ows:Title>
      <ows:Identifier>AGB_Change_Plant_p500</ows:Identifier>
      <ows:BoundingBox crs="http://www.opengis.net/def/crs/EPSG/0/3571">
        <ows:LowerCorner>-4889340.0 -4889340.0</ows:LowerCorner>
        <ows:UpperCorner>4889340.0 4889340.0</ows:UpperCorner>
      </ows:BoundingBox>
      <Style isDefault="true">
        <ows:Title>Default Style</ows:Title>
        <ows:Identifier>default</ows:Identifier>
      </Style>
      <Format>image/geotiff</Format>
      <TileMatrixSetLink>
        <TileMatrixSet>Custom3571TMS</TileMatrixSet>
      </TileMatrixSetLink>
      <ResourceURL format="image/geotiff" resourceType="tile" template="https://arcticdata.io/data/10.18739/A2GF0MZ6W/agb_change/plant/p500/{TileMatrix}/{TileCol}/plant_agb_change_p500_{TileCol}_{TileRow}.tif"/>
    </Layer>
    <Layer>
      <ows:Title>AGB Change Plant p950</ows:Title>
      <ows:Identifier>AGB_Change_Plant_p950</ows:Identifier>
      <ows:BoundingBox crs="http://www.opengis.net/def/crs/EPSG/0/3571">
        <ows:LowerCorner>-4889340.0 -4889340.0</ows:LowerCorner>
        <ows:UpperCorner>4889340.0 4889340.0</ows:UpperCorner>
      </ows:BoundingBox>
      <Style isDefault="true">
        <ows:Title>Default Style</ows:Title>
        <ows:Identifier>default</ows:Identifier>
      </Style>
      <Format>image/geotiff</Format>
      <TileMatrixSetLink>
        <TileMatrixSet>Custom3571TMS</TileMatrixSet>
      </TileMatrixSetLink>
      <ResourceURL format="image/geotiff" resourceType="tile" template="https://arcticdata.io/data/10.18739/A2GF0MZ6W/agb_change/plant/p950/{TileMatrix}/{TileCol}/plant_agb_change_p950_{TileCol}_{TileRow}.tif"/>
    </Layer>
    <Layer>
      <ows:Title>AGB Change Woodyplant p050</ows:Title>
      <ows:Identifier>AGB_Change_Woodyplant_p050</ows:Identifier>
      <ows:BoundingBox crs="http://www.opengis.net/def/crs/EPSG/0/3571">
        <ows:LowerCorner>-4889340.0 -4889340.0</ows:LowerCorner>
        <ows:UpperCorner>4889340.0 4889340.0</ows:UpperCorner>
      </ows:BoundingBox>
      <Style isDefault="true">
        <ows:Title>Default Style</ows:Title>
        <ows:Identifier>default</ows:Identifier>
      </Style>
      <Format>image/geotiff</Format>
      <TileMatrixSetLink>
        <TileMatrixSet>Custom3571TMS</TileMatrixSet>
      </TileMatrixSetLink>
      <ResourceURL format="image/geotiff" resourceType="tile" template="https://arcticdata.io/data/10.18739/A2GF0MZ6W/agb_change/woodyplant/p050/{TileMatrix}/{TileCol}/woodyplant_agb_change_p050_{TileCol}_{TileRow}.tif"/>
    </Layer>
    <Layer>
      <ows:Title>AGB Change Woodyplant p500</ows:Title>
      <ows:Identifier>AGB_Change_Woodyplant_p500</ows:Identifier>
      <ows:BoundingBox crs="http://www.opengis.net/def/crs/EPSG/0/3571">
        <ows:LowerCorner>-4889340.0 -4889340.0</ows:LowerCorner>
        <ows:UpperCorner>4889340.0 4889340.0</ows:UpperCorner>
      </ows:BoundingBox>
      <Style isDefault="true">
        <ows:Title>Default Style</ows:Title>
        <ows:Identifier>default</ows:Identifier>
      </Style>
      <Format>image/geotiff</Format>
      <TileMatrixSetLink>
        <TileMatrixSet>Custom3571TMS</TileMatrixSet>
      </TileMatrixSetLink>
      <ResourceURL format="image/geotiff" resourceType="tile" template="https://arcticdata.io/data/10.18739/A2GF0MZ6W/agb_change/woodyplant/p500/{TileMatrix}/{TileCol}/woodyplant_agb_change_p500_{TileCol}_{TileRow}.tif"/>
    </Layer>
    <Layer>
      <ows:Title>AGB Change Woodyplant p950</ows:Title>
      <ows:Identifier>AGB_Change_Woodyplant_p950</ows:Identifier>
      <ows:BoundingBox crs="http://www.opengis.net/def/crs/EPSG/0/3571">
        <ows:LowerCorner>-4889340.0 -4889340.0</ows:LowerCorner>
        <ows:UpperCorner>4889340.0 4889340.0</ows:UpperCorner>
      </ows:BoundingBox>
      <Style isDefault="true">
        <ows:Title>Default Style</ows:Title>
        <ows:Identifier>default</ows:Identifier>
      </Style>
      <Format>image/geotiff</Format>
      <TileMatrixSetLink>
        <TileMatrixSet>Custom3571TMS</TileMatrixSet>
      </TileMatrixSetLink>
      <ResourceURL format="image/geotiff" resourceType="tile" template="https://arcticdata.io/data/10.18739/A2GF0MZ6W/agb_change/woodyplant/p950/{TileMatrix}/{TileCol}/woodyplant_agb_change_p950_{TileCol}_{TileRow}.tif"/>
    </Layer>
    <Layer>
      <ows:Title>AGB Change Woodyplant Dominance </ows:Title>
      <ows:Identifier>AGB_Change_Woodyplant_Dominance</ows:Identifier>
      <ows:BoundingBox crs="http://www.opengis.net/def/crs/EPSG/0/3571">
        <ows:LowerCorner>-4889340.0 -4889340.0</ows:LowerCorner>
        <ows:UpperCorner>4889340.0 4889340.0</ows:UpperCorner>
      </ows:BoundingBox>
      <Style isDefault="true">
        <ows:Title>Default Style</ows:Title>
        <ows:Identifier>default</ows:Identifier>
      </Style>
      <Format>image/geotiff</Format>
      <TileMatrixSetLink>
        <TileMatrixSet>Custom3571TMS</TileMatrixSet>
      </TileMatrixSetLink>
      <ResourceURL format="image/geotiff" resourceType="tile" template="https://arcticdata.io/data/10.18739/A2GF0MZ6W/agb_change/woodyplant_dominance/{TileMatrix}/{TileCol}/woodyplant_dominance_change_{TileCol}_{TileRow}.tif"/>
    </Layer>
    <Layer>
      <ows:Title>Categorical Change Plant</ows:Title>
      <ows:Identifier>Categorical_Change_Plant</ows:Identifier>
      <ows:BoundingBox crs="http://www.opengis.net/def/crs/EPSG/0/3571">
        <ows:LowerCorner>-4889340.0 -4889340.0</ows:LowerCorner>
        <ows:UpperCorner>4889340.0 4889340.0</ows:UpperCorner>
      </ows:BoundingBox>
      <Style isDefault="true">
        <ows:Title>Default Style</ows:Title>
        <ows:Identifier>default</ows:Identifier>
      </Style>
      <Format>image/geotiff</Format>
      <TileMatrixSetLink>
        <TileMatrixSet>Custom3571TMS</TileMatrixSet>
      </TileMatrixSetLink>
      <ResourceURL format="image/geotiff" resourceType="tile" template="https://arcticdata.io/data/10.18739/A2GF0MZ6W/categorical_change/plant/{TileMatrix}/{TileCol}/plant_categorical_change_{TileCol}_{TileRow}.tif"/>
    </Layer>
    <Layer>
      <ows:Title>Categorical Change Woodyplant</ows:Title>
      <ows:Identifier>Categorical_Change_Woodyplant</ows:Identifier>
      <ows:BoundingBox crs="http://www.opengis.net/def/crs/EPSG/0/3571">
        <ows:LowerCorner>-4889340.0 -4889340.0</ows:LowerCorner>
        <ows:UpperCorner>4889340.0 4889340.0</ows:UpperCorner>
      </ows:BoundingBox>
      <Style isDefault="true">
        <ows:Title>Default Style</ows:Title>
        <ows:Identifier>default</ows:Identifier>
      </Style>
      <Format>image/geotiff</Format>
      <TileMatrixSetLink>
        <TileMatrixSet>Custom3571TMS</TileMatrixSet>
      </TileMatrixSetLink>
      <ResourceURL format="image/geotiff" resourceType="tile" template="https://arcticdata.io/data/10.18739/A2GF0MZ6W/categorical_change/woodyplant/{TileMatrix}/{TileCol}/woodyplant_categorical_change_{TileCol}_{TileRow}.tif"/>
    </Layer>
    <Layer>
      <ows:Title>Mask</ows:Title>
      <ows:Identifier>mask</ows:Identifier>
      <ows:BoundingBox crs="http://www.opengis.net/def/crs/EPSG/0/3571">
        <ows:LowerCorner>-4889340.0 -4889340.0</ows:LowerCorner>
        <ows:UpperCorner>4889340.0 4889340.0</ows:UpperCorner>
      </ows:BoundingBox>
      <Style isDefault="true">
        <ows:Title>Default Style</ows:Title>
        <ows:Identifier>default</ows:Identifier>
      </Style>
      <Format>image/geotiff</Format>
      <TileMatrixSetLink>
        <TileMatrixSet>Custom3571TMS</TileMatrixSet>
      </TileMatrixSetLink>
      <ResourceURL format="image/geotiff" resourceType="tile" template="https://arcticdata.io/data/10.18739/A2GF0MZ6W/mask/{TileMatrix}/{TileCol}/canopy_height_mask_lt5m_{TileCol}_{TileRow}.tif"/>
    </Layer>
    <TileMatrixSet>
      <ows:Title>EPSG 3571 for Arctic</ows:Title>
      <ows:Identifier>Custom3571TMS</ows:Identifier>
      <ows:BoundingBox crs="http://www.opengis.net/def/crs/EPSG/0/3571">
        <ows:LowerCorner>-4889340.0 -4889340.0</ows:LowerCorner>
        <ows:UpperCorner>4889340.0 4889340.0</ows:UpperCorner>
      </ows:BoundingBox>
      <ows:SupportedCRS>urn:ogc:def:crs:EPSG::3571</ows:SupportedCRS>
      <TileMatrix>
        <ows:Identifier>0</ows:Identifier>
        <ScaleDenominator>107142.857142857</ScaleDenominator>
        <TopLeftCorner>-4889340.0 4889340.0</TopLeftCorner>
        <TileWidth>14172</TileWidth>
        <TileHeight>14172</TileHeight>
        <MatrixWidth>23</MatrixWidth>
        <MatrixHeight>23</MatrixHeight>
      </TileMatrix>
    </TileMatrixSet>
  </Contents>
  <ServiceMetadataURL xlink:href="https://arcticdata.io/data/10.18739/A2GF0MZ6W/WMTSCapabilities.xml"/>
</Capabilities>
